BEGIN:VCALENDAR
VERSION:2.0
PRODID:-//St Spyridon College - ECPv6.10.1.1//NONSGML v1.0//EN
CALSCALE:GREGORIAN
METHOD:PUBLISH
X-WR-CALNAME:St Spyridon College
X-ORIGINAL-URL:https://www.stspyridon.nsw.edu.au
X-WR-CALDESC:Events for St Spyridon College
REFRESH-INTERVAL;VALUE=DURATION:PT1H
X-Robots-Tag:noindex
X-PUBLISHED-TTL:PT1H
BEGIN:VTIMEZONE
TZID:Australia/Sydney
BEGIN:STANDARD
TZOFFSETFROM:+1100
TZOFFSETTO:+1000
TZNAME:AEST
DTSTART:20220402T160000
END:STANDARD
BEGIN:DAYLIGHT
TZOFFSETFROM:+1000
TZOFFSETTO:+1100
TZNAME:AEDT
DTSTART:20221001T160000
END:DAYLIGHT
BEGIN:STANDARD
TZOFFSETFROM:+1100
TZOFFSETTO:+1000
TZNAME:AEST
DTSTART:20230401T160000
END:STANDARD
BEGIN:DAYLIGHT
TZOFFSETFROM:+1000
TZOFFSETTO:+1100
TZNAME:AEDT
DTSTART:20230930T160000
END:DAYLIGHT
BEGIN:STANDARD
TZOFFSETFROM:+1100
TZOFFSETTO:+1000
TZNAME:AEST
DTSTART:20240406T160000
END:STANDARD
BEGIN:DAYLIGHT
TZOFFSETFROM:+1000
TZOFFSETTO:+1100
TZNAME:AEDT
DTSTART:20241005T160000
END:DAYLIGHT
END:VTIMEZONE
BEGIN:VEVENT
DTSTART;TZID=Australia/Sydney:20240501T000000
DTEND;TZID=Australia/Sydney:20240501T000000
DTSTAMP:20260422T183811
CREATED:20210822T083237Z
LAST-MODIFIED:20240207T180648Z
UID:10000020-1714521600-1714521600@www.stspyridon.nsw.edu.au
SUMMARY:Holy Wednesday\, early dismissal
DESCRIPTION:
URL:https://www.stspyridon.nsw.edu.au/event/holy-thursday-school-closed-2
CATEGORIES:Events
END:VEVENT
BEGIN:VEVENT
DTSTART;TZID=Australia/Sydney:20240429T000000
DTEND;TZID=Australia/Sydney:20240429T235959
DTSTAMP:20260422T183811
CREATED:20211024T083848Z
LAST-MODIFIED:20240207T102903Z
UID:10000047-1714348800-1714435199@www.stspyridon.nsw.edu.au
SUMMARY:Staff and students return
DESCRIPTION:Staff and students return
URL:https://www.stspyridon.nsw.edu.au/event/staff-and-students-return-4
END:VEVENT
BEGIN:VEVENT
DTSTART;TZID=Australia/Sydney:20240412T080000
DTEND;TZID=Australia/Sydney:20240412T170000
DTSTAMP:20260422T183811
CREATED:20240207T102153Z
LAST-MODIFIED:20240207T102204Z
UID:10000116-1712908800-1712941200@www.stspyridon.nsw.edu.au
SUMMARY:Parent/Teacher Interviews
DESCRIPTION:Parent/Teacher Interviews
URL:https://www.stspyridon.nsw.edu.au/event/parent-teacher-interviews
END:VEVENT
BEGIN:VEVENT
DTSTART;TZID=Australia/Sydney:20240411T080000
DTEND;TZID=Australia/Sydney:20240411T170000
DTSTAMP:20260422T183811
CREATED:20210419T004512Z
LAST-MODIFIED:20240207T101702Z
UID:10000008-1712822400-1712854800@www.stspyridon.nsw.edu.au
SUMMARY:Term 1 Ends
DESCRIPTION:Term One Ends for all St Spyridon students
URL:https://www.stspyridon.nsw.edu.au/event/term-1-ends
END:VEVENT
BEGIN:VEVENT
DTSTART;TZID=Australia/Sydney:20240329T000000
DTEND;TZID=Australia/Sydney:20240401T000000
DTSTAMP:20260422T183811
CREATED:20210822T083237Z
LAST-MODIFIED:20240207T101246Z
UID:10000018-1711670400-1711929600@www.stspyridon.nsw.edu.au
SUMMARY:Western Easter Public Holidays
DESCRIPTION:
URL:https://www.stspyridon.nsw.edu.au/event/western-easter-monday-public-holiday
CATEGORIES:Events
END:VEVENT
BEGIN:VEVENT
DTSTART;TZID=Australia/Sydney:20240325T000000
DTEND;TZID=Australia/Sydney:20240325T000000
DTSTAMP:20260422T183811
CREATED:20210822T083222Z
LAST-MODIFIED:20240207T100856Z
UID:10000015-1711324800-1711324800@www.stspyridon.nsw.edu.au
SUMMARY:The Annunciation of the Theotokos\, School Closed
DESCRIPTION:
URL:https://www.stspyridon.nsw.edu.au/event/the-annunciation-of-the-theotokos-school-closed
CATEGORIES:Events
END:VEVENT
BEGIN:VEVENT
DTSTART;TZID=Australia/Sydney:20240205T000000
DTEND;TZID=Australia/Sydney:20240205T000000
DTSTAMP:20260422T183811
CREATED:20210822T083222Z
LAST-MODIFIED:20240207T100603Z
UID:10000001-1707091200-1707091200@www.stspyridon.nsw.edu.au
SUMMARY:Kinder Minus One Begins
DESCRIPTION:
URL:https://www.stspyridon.nsw.edu.au/event/kinder-minus-one-begins
CATEGORIES:Events
END:VEVENT
BEGIN:VEVENT
DTSTART;TZID=Australia/Sydney:20240201T000000
DTEND;TZID=Australia/Sydney:20240201T000000
DTSTAMP:20260422T183811
CREATED:20210822T083222Z
LAST-MODIFIED:20240207T100247Z
UID:10000004-1706745600-1706745600@www.stspyridon.nsw.edu.au
SUMMARY:Kindergarten and Years  8 -10 commence
DESCRIPTION:
URL:https://www.stspyridon.nsw.edu.au/event/kindergarten-and-years-8-10-commence
CATEGORIES:Events
END:VEVENT
BEGIN:VEVENT
DTSTART;TZID=Australia/Sydney:20240131T000000
DTEND;TZID=Australia/Sydney:20240131T000000
DTSTAMP:20260422T183811
CREATED:20210822T090638Z
LAST-MODIFIED:20240207T100021Z
UID:10000035-1706659200-1706659200@www.stspyridon.nsw.edu.au
SUMMARY:Years 1 to 7\, 11 & 12 commence
DESCRIPTION:
URL:https://www.stspyridon.nsw.edu.au/event/years-1-to-7-11-12-commence-2
CATEGORIES:Events
END:VEVENT
BEGIN:VEVENT
DTSTART;TZID=Australia/Sydney:20240129T000000
DTEND;TZID=Australia/Sydney:20240130T235959
DTSTAMP:20260422T183811
CREATED:20240129T073219Z
LAST-MODIFIED:20240203T015048Z
UID:10000071-1706486400-1706659199@www.stspyridon.nsw.edu.au
SUMMARY:Staff Development  Day
DESCRIPTION:
URL:https://www.stspyridon.nsw.edu.au/event/staff-development-day
CATEGORIES:Events
END:VEVENT
BEGIN:VEVENT
DTSTART;TZID=Australia/Sydney:20231208T000000
DTEND;TZID=Australia/Sydney:20231208T235959
DTSTAMP:20260422T183811
CREATED:20211024T212650Z
LAST-MODIFIED:20230127T030259Z
UID:10000076-1701993600-1702079999@www.stspyridon.nsw.edu.au
SUMMARY:Staff Development Day
DESCRIPTION:
URL:https://www.stspyridon.nsw.edu.au/event/staff-development-day-10
CATEGORIES:Events
END:VEVENT
BEGIN:VEVENT
DTSTART;TZID=Australia/Sydney:20231207T000000
DTEND;TZID=Australia/Sydney:20231207T235959
DTSTAMP:20260422T183811
CREATED:20211024T212554Z
LAST-MODIFIED:20230127T040816Z
UID:10000092-1701907200-1701993599@www.stspyridon.nsw.edu.au
SUMMARY:Last day for students
DESCRIPTION:Last day for students
URL:https://www.stspyridon.nsw.edu.au/event/last-day-for-students-4
CATEGORIES:Events
ATTACH;FMTTYPE=image/jpeg:https://www.stspyridon.nsw.edu.au/wp-content/uploads/2022/07/2021-St-Spyridon-College-Year-12.jpg
END:VEVENT
BEGIN:VEVENT
DTSTART;TZID=Australia/Sydney:20231010T000000
DTEND;TZID=Australia/Sydney:20231010T235959
DTSTAMP:20260422T183811
CREATED:20210822T090726Z
LAST-MODIFIED:20230127T054913Z
UID:10000112-1696896000-1696982399@www.stspyridon.nsw.edu.au
SUMMARY:Students return
DESCRIPTION:Students return Term 4
URL:https://www.stspyridon.nsw.edu.au/event/staff-and-students-return-3
CATEGORIES:Events
END:VEVENT
BEGIN:VEVENT
DTSTART;TZID=Australia/Sydney:20230717T000000
DTEND;TZID=Australia/Sydney:20230717T235959
DTSTAMP:20260422T183811
CREATED:20211024T091443Z
LAST-MODIFIED:20230127T051025Z
UID:10000104-1689552000-1689638399@www.stspyridon.nsw.edu.au
SUMMARY:Staff Development Day
DESCRIPTION:Staff Development Day
URL:https://www.stspyridon.nsw.edu.au/event/staff-development-day-9
CATEGORIES:Events
END:VEVENT
BEGIN:VEVENT
DTSTART;TZID=Australia/Sydney:20230612T000000
DTEND;TZID=Australia/Sydney:20230612T235959
DTSTAMP:20260422T183811
CREATED:20211024T091207Z
LAST-MODIFIED:20230127T055108Z
UID:10000058-1686528000-1686614399@www.stspyridon.nsw.edu.au
SUMMARY:King’s Birthday Public Holiday
DESCRIPTION:King’s Birthday Public Holiday
URL:https://www.stspyridon.nsw.edu.au/event/queens-birthday-public-holiday-2
CATEGORIES:Events
END:VEVENT
BEGIN:VEVENT
DTSTART;TZID=Australia/Sydney:20230426T000000
DTEND;TZID=Australia/Sydney:20230426T235959
DTSTAMP:20260422T183811
CREATED:20211024T091111Z
LAST-MODIFIED:20230127T051859Z
UID:10000057-1682467200-1682553599@www.stspyridon.nsw.edu.au
SUMMARY:Students return
DESCRIPTION:Students return to college
URL:https://www.stspyridon.nsw.edu.au/event/staff-and-students-return-5
CATEGORIES:Events
END:VEVENT
BEGIN:VEVENT
DTSTART;TZID=Australia/Sydney:20230425T000000
DTEND;TZID=Australia/Sydney:20230425T235959
DTSTAMP:20260422T183811
CREATED:20230127T050740Z
LAST-MODIFIED:20230127T050743Z
UID:10000098-1682380800-1682467199@www.stspyridon.nsw.edu.au
SUMMARY:Anzac Day Public Holiday; Easter Monday
DESCRIPTION:Anzac Day Public Holiday; Easter Monday
URL:https://www.stspyridon.nsw.edu.au/event/anzac-day-public-holiday-easter-monday-2
CATEGORIES:Events
ATTACH;FMTTYPE=image/jpeg:https://www.stspyridon.nsw.edu.au/wp-content/uploads/2022/07/2022_03_StSpyro_25th-March.jpg
END:VEVENT
BEGIN:VEVENT
DTSTART;TZID=Australia/Sydney:20230424T000000
DTEND;TZID=Australia/Sydney:20230424T235959
DTSTAMP:20260422T183811
CREATED:20211024T091027Z
LAST-MODIFIED:20230127T051115Z
UID:10000106-1682294400-1682380799@www.stspyridon.nsw.edu.au
SUMMARY:Staff Development Day
DESCRIPTION:Staff Development Day
URL:https://www.stspyridon.nsw.edu.au/event/staff-development-day-7
CATEGORIES:Events,Teachers
END:VEVENT
BEGIN:VEVENT
DTSTART;TZID=Australia/Sydney:20230416T000000
DTEND;TZID=Australia/Sydney:20230416T235959
DTSTAMP:20260422T183811
CREATED:20211024T085842Z
LAST-MODIFIED:20230127T043728Z
UID:10000096-1681603200-1681689599@www.stspyridon.nsw.edu.au
SUMMARY:ORTHODOX EASTER
DESCRIPTION:Orthodox Easter
URL:https://www.stspyridon.nsw.edu.au/event/orthodox-easter-3
CATEGORIES:Events
END:VEVENT
BEGIN:VEVENT
DTSTART;TZID=Australia/Sydney:20230409T000000
DTEND;TZID=Australia/Sydney:20230409T235959
DTSTAMP:20260422T183811
CREATED:20211024T085748Z
LAST-MODIFIED:20230127T042524Z
UID:10000094-1680998400-1681084799@www.stspyridon.nsw.edu.au
SUMMARY:WESTERN EASTER
DESCRIPTION:Western Easter Celebrations
URL:https://www.stspyridon.nsw.edu.au/event/western-easter-2
CATEGORIES:Events
END:VEVENT
BEGIN:VEVENT
DTSTART;TZID=Australia/Sydney:20230406T000000
DTEND;TZID=Australia/Sydney:20230406T235959
DTSTAMP:20260422T183811
CREATED:20211024T085636Z
LAST-MODIFIED:20230127T031532Z
UID:10000085-1680739200-1680825599@www.stspyridon.nsw.edu.au
SUMMARY:Term ends
DESCRIPTION:
URL:https://www.stspyridon.nsw.edu.au/event/term-ends-3
END:VEVENT
BEGIN:VEVENT
DTSTART;TZID=Australia/Sydney:20230202T083000
DTEND;TZID=Australia/Sydney:20230202T143000
DTSTAMP:20260422T183811
CREATED:20210822T090641Z
LAST-MODIFIED:20230127T031240Z
UID:10000083-1675326600-1675348200@www.stspyridon.nsw.edu.au
SUMMARY:Kinder Minus One commence
DESCRIPTION:
URL:https://www.stspyridon.nsw.edu.au/event/kinder-minus-one-commence
CATEGORIES:Events
END:VEVENT
BEGIN:VEVENT
DTSTART;TZID=Australia/Sydney:20230201T000000
DTEND;TZID=Australia/Sydney:20230201T235959
DTSTAMP:20260422T183811
CREATED:20210822T090641Z
LAST-MODIFIED:20230127T031152Z
UID:10000080-1675209600-1675295999@www.stspyridon.nsw.edu.au
SUMMARY:Kindergarten and Years 8 – 10 commence
DESCRIPTION:
URL:https://www.stspyridon.nsw.edu.au/event/kindergarten-and-years-8-10-commence-2
CATEGORIES:Events
END:VEVENT
BEGIN:VEVENT
DTSTART;TZID=Australia/Sydney:20230131T000000
DTEND;TZID=Australia/Sydney:20230131T235959
DTSTAMP:20260422T183811
CREATED:20211024T084957Z
LAST-MODIFIED:20230127T030904Z
UID:10000078-1675123200-1675209599@www.stspyridon.nsw.edu.au
SUMMARY:Years 1 to 7\, 11 & 12 commence
DESCRIPTION:
URL:https://www.stspyridon.nsw.edu.au/event/years-1-to-7-11-12-commence-3
END:VEVENT
BEGIN:VEVENT
DTSTART;TZID=Australia/Sydney:20230130T000000
DTEND;TZID=Australia/Sydney:20230130T235959
DTSTAMP:20260422T183811
CREATED:20210822T083219Z
LAST-MODIFIED:20230127T025754Z
UID:10000074-1675036800-1675123199@www.stspyridon.nsw.edu.au
SUMMARY:Staff Development Day
DESCRIPTION:
URL:https://www.stspyridon.nsw.edu.au/event/staff-development-day-2
CATEGORIES:Events
END:VEVENT
BEGIN:VEVENT
DTSTART;TZID=Australia/Sydney:20230126T000000
DTEND;TZID=Australia/Sydney:20230126T235900
DTSTAMP:20260422T183811
CREATED:20230127T023230Z
LAST-MODIFIED:20230127T024611Z
UID:10000068-1674691200-1674777540@www.stspyridon.nsw.edu.au
SUMMARY:Australia Day\, Public Holiday
DESCRIPTION:Australia Day\, Public Holiday
URL:https://www.stspyridon.nsw.edu.au/event/australia-day-public-holiday-3
CATEGORIES:Events,Public Holiday
END:VEVENT
BEGIN:VEVENT
DTSTART;TZID=Australia/Sydney:20230125T000000
DTEND;TZID=Australia/Sydney:20230125T235959
DTSTAMP:20260422T183811
CREATED:20210822T090656Z
LAST-MODIFIED:20230127T050747Z
UID:10000103-1674604800-1674691199@www.stspyridon.nsw.edu.au
SUMMARY:Anzac Day Public Holiday; Easter Monday
DESCRIPTION:Anzac Day Public Holiday; Easter Monday
URL:https://www.stspyridon.nsw.edu.au/event/anzac-day-public-holiday-easter-monday
CATEGORIES:Events
ATTACH;FMTTYPE=image/jpeg:https://www.stspyridon.nsw.edu.au/wp-content/uploads/2022/07/2022_03_StSpyro_25th-March.jpg
END:VEVENT
BEGIN:VEVENT
DTSTART;TZID=Australia/Sydney:20221003T000000
DTEND;TZID=Australia/Sydney:20221003T235959
DTSTAMP:20260422T183811
CREATED:20211024T212358Z
LAST-MODIFIED:20211024T212400Z
UID:10000064-1664755200-1664841599@www.stspyridon.nsw.edu.au
SUMMARY:Labour Day Public Holiday
DESCRIPTION:
URL:https://www.stspyridon.nsw.edu.au/event/labour-day-public-holiday-4
END:VEVENT
BEGIN:VEVENT
DTSTART;TZID=Australia/Sydney:20220325T000000
DTEND;TZID=Australia/Sydney:20220325T235959
DTSTAMP:20260422T183811
CREATED:20211024T085412Z
LAST-MODIFIED:20211024T085414Z
UID:10000052-1648166400-1648252799@www.stspyridon.nsw.edu.au
SUMMARY:The Annunciation of the Theotokos\, School Closed
DESCRIPTION:
URL:https://www.stspyridon.nsw.edu.au/event/the-annunciation-of-the-theotokos-school-closed-2
END:VEVENT
BEGIN:VEVENT
DTSTART;TZID=Australia/Sydney:20220310T000000
DTEND;TZID=Australia/Sydney:20220310T000000
DTSTAMP:20260422T183811
CREATED:20210822T090726Z
LAST-MODIFIED:20210822T090726Z
UID:10000043-1646870400-1646870400@www.stspyridon.nsw.edu.au
SUMMARY:Labour Day Public Holiday
DESCRIPTION:
URL:https://www.stspyridon.nsw.edu.au/event/labour-day-public-holiday-2
CATEGORIES:Events
END:VEVENT
END:VCALENDAR